BEGIN:VCALENDAR
VERSION:2.0
PRODID:spatie/icalendar-generator
DESCRIPTION:Veranstaltungen von Infos Gran Canaria | Das Inselportal
X-WR-CALDESC:Veranstaltungen von Infos Gran Canaria | Das Inselportal
REFRESH-INTERVAL;VALUE=DURATION:PT1440M
X-PUBLISHED-TTL:PT1440M
BEGIN:VTIMEZONE
TZID:Atlantic/Canary
BEGIN:DAYLIGHT
DTSTART:20240331T010000Z
TZOFFSETFROM:+0000
TZOFFSETTO:+0100
END:DAYLIGHT
BEGIN:STANDARD
DTSTART:20241027T020000Z
TZOFFSETFROM:+0100
TZOFFSETTO:+0000
END:STANDARD
BEGIN:DAYLIGHT
DTSTART:20250330T010000Z
TZOFFSETFROM:+0000
TZOFFSETTO:+0100
END:DAYLIGHT
END:VTIMEZONE
BEGIN:VTIMEZONE
TZID:UTC
BEGIN:STANDARD
DTSTART:20250724T120817Z
TZOFFSETFROM:+0000
TZOFFSETTO:+0000
END:STANDARD
END:VTIMEZONE
BEGIN:VEVENT
UID:14-4
DTSTAMP:20260420T120817Z
SUMMARY:FEIERTAG: Tag der Verfassung (Día de la Constitución)
LOCATION:Inselweite Events Inselweit  Gran Canaria Las Palmas 35001
ORGANIZER;CN=Thomas F. InfosGC:MAILTO:info@infos-grancanaria.com
RRULE:FREQ=YEARLY;BYMONTH=12;BYDAY=06;UNTIL=20341231T000000Z
DTSTART;TZID=Atlantic/Canary;VALUE=DATE:20241206
DTEND;TZID=Atlantic/Canary;VALUE=DATE:20241207
X-ALT-DESC;FMTTYPE=TEXT/HTML:Heute ist Día de la Constitución (Also der T
 ag der spanischen Verfassung\, Nationalfeiertag) und dieser Tag ist auch a
 uf Gran Canaria ein Feiertag\, einige Geschäfte werden geschlossen haben\
 , manche evtl. offen bitte bei den entsprechenden Geschäften anfragen!
CATEGORIES:Feste &amp; Feiertage
URL;VALUE=URI:https://infos-grancanaria.com/events-veranstaltungen/feiertag
 -tag-der-verfassung-dia-de-la-constitucion/?mc_id=14
METHOD:PUBLISH
END:VEVENT
END:VCALENDAR