BEGIN:VCALENDAR
VERSION:2.0
PRODID:spatie/icalendar-generator
DESCRIPTION:Veranstaltungen von Infos Gran Canaria | Das Inselportal
X-WR-CALDESC:Veranstaltungen von Infos Gran Canaria | Das Inselportal
REFRESH-INTERVAL;VALUE=DURATION:PT1440M
X-PUBLISHED-TTL:PT1440M
BEGIN:VTIMEZONE
TZID:Atlantic/Canary
BEGIN:STANDARD
DTSTART:20241027T020000Z
TZOFFSETFROM:+0100
TZOFFSETTO:+0000
END:STANDARD
BEGIN:DAYLIGHT
DTSTART:20250330T010000Z
TZOFFSETFROM:+0000
TZOFFSETTO:+0100
END:DAYLIGHT
BEGIN:STANDARD
DTSTART:20251026T020000Z
TZOFFSETFROM:+0100
TZOFFSETTO:+0000
END:STANDARD
END:VTIMEZONE
BEGIN:VTIMEZONE
TZID:UTC
BEGIN:STANDARD
DTSTART:20250725T132241Z
TZOFFSETFROM:+0000
TZOFFSETTO:+0000
END:STANDARD
END:VTIMEZONE
BEGIN:VEVENT
UID:200-104
DTSTAMP:20260421T132241Z
SUMMARY:KONZERT: Bill Murray
LOCATION:Auditorium Alfredo Kraus Avenida Príncipe de Asturias  Las Palmas
  de Gran Canaria Las Palmas 35010
ORGANIZER;CN=Thomas F. InfosGC:MAILTO:info@infos-grancanaria.com
DTSTART;TZID=Atlantic/Canary:20250615T190000
DTEND;TZID=Atlantic/Canary:20250615T213000
X-ALT-DESC;FMTTYPE=TEXT/HTML:Bill Murray ist vielen aus den Ghostbusters-Fi
 lmen bekannt\, aber der US-Amerikaner kann noch mehr... Zusammen mit dem C
 ellisten Jan Vogler veröffentlichte Bill Murray 2017 das Album New Worlds
 \, in welchem er unter anderem klassische Musik aufarbeitet. Dazu führten
  sie weltweit eine Reihe von Vorstellungen auf. Darunter auch ein Konzert 
 im Auditorium Alfredo Kraus in Las&amp;hellip\;
CATEGORIES:Konzerte
URL;VALUE=URI:https://infos-grancanaria.com/events-veranstaltungen/konzert-
 bill-murray/
METHOD:PUBLISH
END:VEVENT
END:VCALENDAR