BEGIN:VCALENDAR
VERSION:2.0
PRODID:spatie/icalendar-generator
DESCRIPTION:Veranstaltungen von Infos Gran Canaria | Das Inselportal
X-WR-CALDESC:Veranstaltungen von Infos Gran Canaria | Das Inselportal
REFRESH-INTERVAL;VALUE=DURATION:PT1440M
X-PUBLISHED-TTL:PT1440M
BEGIN:VTIMEZONE
TZID:Atlantic/Canary
BEGIN:DAYLIGHT
DTSTART:20250330T010000Z
TZOFFSETFROM:+0000
TZOFFSETTO:+0100
END:DAYLIGHT
BEGIN:STANDARD
DTSTART:20251026T020000Z
TZOFFSETFROM:+0100
TZOFFSETTO:+0000
END:STANDARD
BEGIN:DAYLIGHT
DTSTART:20260329T010000Z
TZOFFSETFROM:+0000
TZOFFSETTO:+0100
END:DAYLIGHT
END:VTIMEZONE
BEGIN:VTIMEZONE
TZID:UTC
BEGIN:STANDARD
DTSTART:20250724T151727Z
TZOFFSETFROM:+0000
TZOFFSETTO:+0000
END:STANDARD
END:VTIMEZONE
BEGIN:VEVENT
UID:212-106
DTSTAMP:20260420T151727Z
SUMMARY:FEIERTAG: Dia de la Hispanidad
LOCATION:Inselweite Events Inselweit  Gran Canaria Las Palmas 35001
ORGANIZER;CN=Thomas F. InfosGC:MAILTO:info@infos-grancanaria.com
RRULE:FREQ=YEARLY;BYMONTH=10;BYDAY=12;UNTIL=20350430T000000Z
DTSTART;TZID=Atlantic/Canary;VALUE=DATE:20251012
DTEND;TZID=Atlantic/Canary;VALUE=DATE:20251013
X-ALT-DESC;FMTTYPE=TEXT/HTML:Heute ist mal wieder Feiertag\, es ist der \"D
 ía de la Hispanidad\". Doch was ist das für ein Feiertag und warum wird 
 dieser gefeiert? HIER haben wir dazu eine Erklärung verfasst! Eines ist k
 lar verschiedene Geschäfte werden geschlossen haben\, bitte planen Sie di
 es bei ihren Aktivitäten mit ein!
CATEGORIES:Feste &amp; Feiertage
URL;VALUE=URI:https://infos-grancanaria.com/events-veranstaltungen/feiertag
 -dia-de-la-hispanidad/?mc_id=212
METHOD:PUBLISH
END:VEVENT
END:VCALENDAR