BEGIN:VCALENDAR
VERSION:2.0
PRODID:spatie/icalendar-generator
DESCRIPTION:Veranstaltungen von Infos Gran Canaria | Das Inselportal
X-WR-CALDESC:Veranstaltungen von Infos Gran Canaria | Das Inselportal
REFRESH-INTERVAL;VALUE=DURATION:PT1440M
X-PUBLISHED-TTL:PT1440M
BEGIN:VTIMEZONE
TZID:Atlantic/Canary
BEGIN:DAYLIGHT
DTSTART:20240331T010000Z
TZOFFSETFROM:+0000
TZOFFSETTO:+0100
END:DAYLIGHT
BEGIN:STANDARD
DTSTART:20241027T020000Z
TZOFFSETFROM:+0100
TZOFFSETTO:+0000
END:STANDARD
BEGIN:DAYLIGHT
DTSTART:20250330T010000Z
TZOFFSETFROM:+0000
TZOFFSETTO:+0100
END:DAYLIGHT
END:VTIMEZONE
BEGIN:VTIMEZONE
TZID:UTC
BEGIN:STANDARD
DTSTART:20250725T105425Z
TZOFFSETFROM:+0000
TZOFFSETTO:+0000
END:STANDARD
END:VTIMEZONE
BEGIN:VEVENT
UID:3-3
DTSTAMP:20260421T105425Z
SUMMARY:FEIERTAG: Weihnachten auf Gran Canaria
LOCATION:Inselweite Events Inselweit  Gran Canaria Las Palmas 35001
ORGANIZER;CN=Thomas F. InfosGC:MAILTO:info@infos-grancanaria.com
RRULE:FREQ=YEARLY;BYMONTH=12;BYDAY=25;UNTIL=20341231T000000Z
DTSTART;TZID=Atlantic/Canary;VALUE=DATE:20241225
DTEND;TZID=Atlantic/Canary;VALUE=DATE:20241226
X-ALT-DESC;FMTTYPE=TEXT/HTML:In Spanien gilt lediglich der 25. Dezember als
  Feiertag zu Weihnachten\, der wichtige Tag folgt am 6. Januar! Urlaub auf
  Gran Canaria zu dieser Jahreszeit ist sehr beliebt. Wir würden uns freue
 n wenn Sie uns mit einer Buchung über den angegebenen Link unterstützen\
 , bei unserer Arbeit für Ihre Informationen rund um Gran Canaria 🙂
CATEGORIES:Feste &amp; Feiertage
URL;VALUE=URI:https://infos-grancanaria.com/events-veranstaltungen/feiertag
 -weihnachten-auf-gran-canaria/?mc_id=3
METHOD:PUBLISH
END:VEVENT
END:VCALENDAR