BEGIN:VCALENDAR
VERSION:2.0
PRODID:spatie/icalendar-generator
DESCRIPTION:Veranstaltungen von Infos Gran Canaria | Das Inselportal
X-WR-CALDESC:Veranstaltungen von Infos Gran Canaria | Das Inselportal
REFRESH-INTERVAL;VALUE=DURATION:PT1440M
X-PUBLISHED-TTL:PT1440M
BEGIN:VTIMEZONE
TZID:Atlantic/Canary
BEGIN:STANDARD
DTSTART:20251026T020000Z
TZOFFSETFROM:+0100
TZOFFSETTO:+0000
END:STANDARD
BEGIN:DAYLIGHT
DTSTART:20260329T010000Z
TZOFFSETFROM:+0000
TZOFFSETTO:+0100
END:DAYLIGHT
END:VTIMEZONE
BEGIN:VTIMEZONE
TZID:UTC
BEGIN:STANDARD
DTSTART:20250724T085501Z
TZOFFSETFROM:+0000
TZOFFSETTO:+0000
END:STANDARD
END:VTIMEZONE
BEGIN:VEVENT
UID:443-39
DTSTAMP:20260420T085501Z
SUMMARY:Karneval Las Palmas de Gran Canaria 2026
LOCATION:Parque Santa Catalina Parque Santa Catalina  Las Palmas de Gran Ca
 naria Las Palmas 35007
ORGANIZER;CN=Thomas F. InfosGC:MAILTO:info@infos-grancanaria.com
DTSTART;TZID=Atlantic/Canary;VALUE=DATE:20260123
DTEND;TZID=Atlantic/Canary;VALUE=DATE:20260302
X-ALT-DESC;FMTTYPE=TEXT/HTML:<p>Der Karneval Las Palmas de Gran Canaria 202
 5 feiert unter dem Motto \"Die olympischen Spiele\"!</p>\n
CATEGORIES:Show,  Feste &amp; Feiertage
URL;VALUE=URI:https://infos-grancanaria.com/events-veranstaltungen/karneval
 -las-palmas-de-gran-canaria/
METHOD:PUBLISH
END:VEVENT
END:VCALENDAR