BEGIN:VCALENDAR
VERSION:2.0
PRODID:spatie/icalendar-generator
DESCRIPTION:Veranstaltungen von Infos Gran Canaria | Das Inselportal
X-WR-CALDESC:Veranstaltungen von Infos Gran Canaria | Das Inselportal
REFRESH-INTERVAL;VALUE=DURATION:PT1440M
X-PUBLISHED-TTL:PT1440M
BEGIN:VTIMEZONE
TZID:Atlantic/Canary
BEGIN:STANDARD
DTSTART:20251026T020000Z
TZOFFSETFROM:+0100
TZOFFSETTO:+0000
END:STANDARD
BEGIN:DAYLIGHT
DTSTART:20260329T010000Z
TZOFFSETFROM:+0000
TZOFFSETTO:+0100
END:DAYLIGHT
BEGIN:STANDARD
DTSTART:20261025T020000Z
TZOFFSETFROM:+0100
TZOFFSETTO:+0000
END:STANDARD
END:VTIMEZONE
BEGIN:VTIMEZONE
TZID:UTC
BEGIN:STANDARD
DTSTART:20250724T121212Z
TZOFFSETFROM:+0000
TZOFFSETTO:+0000
END:STANDARD
END:VTIMEZONE
BEGIN:VEVENT
UID:675-132
DTSTAMP:20260420T121212Z
SUMMARY:Eurovision Pride 2026
LOCATION:CC Yumbo Av. Estados Unidos 54  Playa del Inglés Las Palmas 35100
ORGANIZER;CN=Thomas F. InfosGC:MAILTO:info@infos-grancanaria.com
DTSTART;TZID=Atlantic/Canary;VALUE=DATE:20260514
DTEND;TZID=Atlantic/Canary;VALUE=DATE:20260518
X-ALT-DESC;FMTTYPE=TEXT/HTML:Fast im Anschluss an den Gaypride findet der n
 eue \"Eurivision Pride\" in Maspalomas im CC Yumbo statt. 14. Mai: Halbfin
 ale Live im CC Yumbo 15. Mai: - Pool Party im Ocean Club Maspalomas - Euro
 vision Glow Party im CC Yumbo 16. Mai: LIVE Finale und Party im CC Yumbo 1
 7. Mai: Closing Poolparty im Seven&amp;hellip\;
CATEGORIES:Show,  Feste &amp; Feiertage
URL;VALUE=URI:https://infos-grancanaria.com/events-veranstaltungen/eurovisi
 on-pride/
METHOD:PUBLISH
END:VEVENT
END:VCALENDAR