BEGIN:VCALENDAR
VERSION:2.0
PRODID:spatie/icalendar-generator
DESCRIPTION:Veranstaltungen von Infos Gran Canaria | Das Inselportal
X-WR-CALDESC:Veranstaltungen von Infos Gran Canaria | Das Inselportal
REFRESH-INTERVAL;VALUE=DURATION:PT1440M
X-PUBLISHED-TTL:PT1440M
BEGIN:VTIMEZONE
TZID:Atlantic/Canary
BEGIN:STANDARD
DTSTART:20251026T020000Z
TZOFFSETFROM:+0100
TZOFFSETTO:+0000
END:STANDARD
BEGIN:DAYLIGHT
DTSTART:20260329T010000Z
TZOFFSETFROM:+0000
TZOFFSETTO:+0100
END:DAYLIGHT
BEGIN:STANDARD
DTSTART:20261025T020000Z
TZOFFSETFROM:+0100
TZOFFSETTO:+0000
END:STANDARD
END:VTIMEZONE
BEGIN:VTIMEZONE
TZID:UTC
BEGIN:STANDARD
DTSTART:20250729T033246Z
TZOFFSETFROM:+0000
TZOFFSETTO:+0000
END:STANDARD
END:VTIMEZONE
BEGIN:VEVENT
UID:686-135
DTSTAMP:20260425T033246Z
SUMMARY:KONZERT: STING
LOCATION:Gran Canaria Arena Calle Fondos de Segura  Las Palmas de Gran Cana
 ria Las Palmas 35019
ORGANIZER;CN=Thomas F. InfosGC:MAILTO:info@infos-grancanaria.com
DTSTART;TZID=Atlantic/Canary:20260709T210000
DTEND;TZID=Atlantic/Canary:20260709T233000
X-ALT-DESC;FMTTYPE=TEXT/HTML:<p>Sting kehrt nach Gran Canaria zurück\, im 
 Rahmen seiner Welttournee \"Sting 3.0\"!</p>\n
CATEGORIES:Konzerte
URL;VALUE=URI:https://infos-grancanaria.com/events-veranstaltungen/konzert-
 sting/
METHOD:PUBLISH
END:VEVENT
END:VCALENDAR