BEGIN:VCALENDAR
VERSION:2.0
PRODID:spatie/icalendar-generator
DESCRIPTION:Veranstaltungen von Infos Gran Canaria | Das Inselportal
X-WR-CALDESC:Veranstaltungen von Infos Gran Canaria | Das Inselportal
REFRESH-INTERVAL;VALUE=DURATION:PT1440M
X-PUBLISHED-TTL:PT1440M
BEGIN:VTIMEZONE
TZID:Atlantic/Canary
BEGIN:STANDARD
DTSTART:20251026T020000Z
TZOFFSETFROM:+0100
TZOFFSETTO:+0000
END:STANDARD
BEGIN:DAYLIGHT
DTSTART:20260329T010000Z
TZOFFSETFROM:+0000
TZOFFSETTO:+0100
END:DAYLIGHT
END:VTIMEZONE
BEGIN:VTIMEZONE
TZID:UTC
BEGIN:STANDARD
DTSTART:20250728T233612Z
TZOFFSETFROM:+0000
TZOFFSETTO:+0000
END:STANDARD
END:VTIMEZONE
BEGIN:VEVENT
UID:699-62
DTSTAMP:20260424T233612Z
SUMMARY:Mandelblütenfest Tejeda 2026
LOCATION:Tejeda Gemeinde Calle Ezequiel Sánchez 26\, 35360 Tejeda  Tejeda 
 Las Palmas 35360
ORGANIZER;CN=Thomas F. InfosGC:MAILTO:info@infos-grancanaria.com
DTSTART;TZID=Atlantic/Canary;VALUE=DATE:20260207
DTEND;TZID=Atlantic/Canary;VALUE=DATE:20260209
X-ALT-DESC;FMTTYPE=TEXT/HTML:<p>Mandelblütenfest Tejeda 2026 - Jetzt Infor
 mieren! Infos Gran Canaria mit aktuellen Events\, News und mehr!</p>\n
CATEGORIES:Essen &amp; Trinken,  Feste &amp; Feiertage
URL;VALUE=URI:https://infos-grancanaria.com/events-veranstaltungen/mandelbl
 uetenfest-tejeda/
METHOD:PUBLISH
END:VEVENT
END:VCALENDAR