BEGIN:VCALENDAR
VERSION:2.0
PRODID:spatie/icalendar-generator
DESCRIPTION:Veranstaltungen von Infos Gran Canaria | Das Inselportal
X-WR-CALDESC:Veranstaltungen von Infos Gran Canaria | Das Inselportal
REFRESH-INTERVAL;VALUE=DURATION:PT1440M
X-PUBLISHED-TTL:PT1440M
BEGIN:VTIMEZONE
TZID:Atlantic/Canary
BEGIN:DAYLIGHT
DTSTART:20240331T010000Z
TZOFFSETFROM:+0000
TZOFFSETTO:+0100
END:DAYLIGHT
BEGIN:STANDARD
DTSTART:20241027T020000Z
TZOFFSETFROM:+0100
TZOFFSETTO:+0000
END:STANDARD
BEGIN:DAYLIGHT
DTSTART:20250330T010000Z
TZOFFSETFROM:+0000
TZOFFSETTO:+0100
END:DAYLIGHT
END:VTIMEZONE
BEGIN:VTIMEZONE
TZID:UTC
BEGIN:STANDARD
DTSTART:20250724T103512Z
TZOFFSETFROM:+0000
TZOFFSETTO:+0000
END:STANDARD
END:VTIMEZONE
BEGIN:VEVENT
UID:87-36
DTSTAMP:20260420T103512Z
SUMMARY:Heimspiel UD Las Palmas gegen Espanyol Barcelona
LOCATION:Stadion Gran Canaria Calle Fondos de Segura\, s/n  Las Palmas de G
 ran Canaria Las Palmas 35019
ORGANIZER;CN=Thomas F. InfosGC:MAILTO:info@infos-grancanaria.com
DTSTART;TZID=Atlantic/Canary:20241222T173000
DTEND;TZID=Atlantic/Canary:20241222T193000
X-ALT-DESC;FMTTYPE=TEXT/HTML:<p>Das nächste Heimspiel von UD Las Palmas de
 r Saison 2024/2025 findet am 22. Dezember 2024 statt.</p>\n
CATEGORIES:Sport
URL;VALUE=URI:https://infos-grancanaria.com/events-veranstaltungen/heimspie
 l-ud-las-palmas/
METHOD:PUBLISH
END:VEVENT
END:VCALENDAR