BEGIN:VCALENDAR
VERSION:2.0
PRODID:spatie/icalendar-generator
DESCRIPTION:Veranstaltungen von Infos Gran Canaria | Das Inselportal
X-WR-CALDESC:Veranstaltungen von Infos Gran Canaria | Das Inselportal
REFRESH-INTERVAL;VALUE=DURATION:PT1440M
X-PUBLISHED-TTL:PT1440M
BEGIN:VTIMEZONE
TZID:Atlantic/Canary
BEGIN:STANDARD
DTSTART:20241027T020000Z
TZOFFSETFROM:+0100
TZOFFSETTO:+0000
END:STANDARD
BEGIN:DAYLIGHT
DTSTART:20250330T010000Z
TZOFFSETFROM:+0000
TZOFFSETTO:+0100
END:DAYLIGHT
BEGIN:STANDARD
DTSTART:20251026T020000Z
TZOFFSETFROM:+0100
TZOFFSETTO:+0000
END:STANDARD
END:VTIMEZONE
BEGIN:VTIMEZONE
TZID:UTC
BEGIN:STANDARD
DTSTART:20250729T031045Z
TZOFFSETFROM:+0000
TZOFFSETTO:+0000
END:STANDARD
END:VTIMEZONE
BEGIN:VEVENT
UID:232-96
DTSTAMP:20260425T031045Z
SUMMARY:Gaypride Gáldar 2025
LOCATION:Stadt Gáldar GC-292  Gáldar Las Palmas 35460
ORGANIZER;CN=Thomas F. InfosGC:MAILTO:info@infos-grancanaria.com
DTSTART;TZID=Atlantic/Canary;VALUE=DATE:20250604
DTEND;TZID=Atlantic/Canary;VALUE=DATE:20250609
X-ALT-DESC;FMTTYPE=TEXT/HTML:Bereits zum veirten Mal findet in Gáldar im J
 ahr 2025 auch die Gaypride Gáldar statt. Es ist nach Maspalomas und Las P
 almas damit der dritte Gaypride auf der Insel Gran Canaria. Zudem ist es d
 er erste Gaypride der in einer zur \"Nordzone\" zugehörigen Stadt ausgetr
 agen wird. Die Parade\, die hier \"Sommerkarneval\" genannt wird\, findet 
 am&amp;hellip\;
CATEGORIES:Feste &amp; Feiertage
URL;VALUE=URI:https://infos-grancanaria.com/events-veranstaltungen/gaypride
 -galdar-2025/
METHOD:PUBLISH
END:VEVENT
END:VCALENDAR