BEGIN:VCALENDAR
VERSION:2.0
PRODID:spatie/icalendar-generator
DESCRIPTION:Veranstaltungen von Infos Gran Canaria | Das Inselportal
X-WR-CALDESC:Veranstaltungen von Infos Gran Canaria | Das Inselportal
REFRESH-INTERVAL;VALUE=DURATION:PT1440M
X-PUBLISHED-TTL:PT1440M
BEGIN:VTIMEZONE
TZID:Atlantic/Canary
BEGIN:STANDARD
DTSTART:20251026T020000Z
TZOFFSETFROM:+0100
TZOFFSETTO:+0000
END:STANDARD
BEGIN:DAYLIGHT
DTSTART:20260329T010000Z
TZOFFSETFROM:+0000
TZOFFSETTO:+0100
END:DAYLIGHT
END:VTIMEZONE
BEGIN:VTIMEZONE
TZID:UTC
BEGIN:STANDARD
DTSTART:20250724T121212Z
TZOFFSETFROM:+0000
TZOFFSETTO:+0000
END:STANDARD
END:VTIMEZONE
BEGIN:VEVENT
UID:340-120
DTSTAMP:20260420T121212Z
SUMMARY:Karneval Arucas
LOCATION:RECINTO FERIAL DE ARUCAS Ctra. del Lomo   Las Palmas 35400
ORGANIZER;CN=Thomas F. InfosGC:MAILTO:info@infos-grancanaria.com
DTSTART;TZID=Atlantic/Canary;VALUE=DATE:20260124
DTEND;TZID=Atlantic/Canary;VALUE=DATE:20260302
X-ALT-DESC;FMTTYPE=TEXT/HTML:<p>Das ganz genaue Datum für den Karneval Aru
 cas 2026 steht noch nicht fest.</p>\n
CATEGORIES:Feste &amp; Feiertage
URL;VALUE=URI:https://infos-grancanaria.com/events-veranstaltungen/karneval
 -arucas/
METHOD:PUBLISH
END:VEVENT
END:VCALENDAR