BEGIN:VCALENDAR
VERSION:2.0
PRODID:spatie/icalendar-generator
DESCRIPTION:Veranstaltungen von Infos Gran Canaria | Das Inselportal
X-WR-CALDESC:Veranstaltungen von Infos Gran Canaria | Das Inselportal
REFRESH-INTERVAL;VALUE=DURATION:PT1440M
X-PUBLISHED-TTL:PT1440M
BEGIN:VTIMEZONE
TZID:Atlantic/Canary
BEGIN:DAYLIGHT
DTSTART:20250330T010000Z
TZOFFSETFROM:+0000
TZOFFSETTO:+0100
END:DAYLIGHT
BEGIN:STANDARD
DTSTART:20251026T020000Z
TZOFFSETFROM:+0100
TZOFFSETTO:+0000
END:STANDARD
BEGIN:DAYLIGHT
DTSTART:20260329T010000Z
TZOFFSETFROM:+0000
TZOFFSETTO:+0100
END:DAYLIGHT
END:VTIMEZONE
BEGIN:VTIMEZONE
TZID:UTC
BEGIN:STANDARD
DTSTART:20250725T131835Z
TZOFFSETFROM:+0000
TZOFFSETTO:+0000
END:STANDARD
END:VTIMEZONE
BEGIN:VEVENT
UID:448-129
DTSTAMP:20260421T131835Z
SUMMARY:Maspalomas Tourisfest 2025
LOCATION:ANEXO II Calle Las Dunas  Playa del Inglés Las Palmas 35100
ORGANIZER;CN=Thomas F. InfosGC:MAILTO:info@infos-grancanaria.com
DTSTART;TZID=Atlantic/Canary:20250926T180000
DTEND;TZID=Atlantic/Canary:20250928T020000
X-ALT-DESC;FMTTYPE=TEXT/HTML:<p>Die dritte Auflage des Maspalomas Tourisfes
 t findet am 26. und 27. September am Anexo II in Playa del Inglés statt.</p>\n
CATEGORIES:Konzerte,  Essen &amp; Trinken,  Show
URL;VALUE=URI:https://infos-grancanaria.com/events-veranstaltungen/maspalom
 as-tourisfest/
METHOD:PUBLISH
END:VEVENT
END:VCALENDAR