BEGIN:VCALENDAR
VERSION:2.0
PRODID:spatie/icalendar-generator
DESCRIPTION:Veranstaltungen von Infos Gran Canaria | Das Inselportal
X-WR-CALDESC:Veranstaltungen von Infos Gran Canaria | Das Inselportal
REFRESH-INTERVAL;VALUE=DURATION:PT1440M
X-PUBLISHED-TTL:PT1440M
BEGIN:VTIMEZONE
TZID:Atlantic/Canary
BEGIN:STANDARD
DTSTART:20251026T020000Z
TZOFFSETFROM:+0100
TZOFFSETTO:+0000
END:STANDARD
BEGIN:DAYLIGHT
DTSTART:20260329T010000Z
TZOFFSETFROM:+0000
TZOFFSETTO:+0100
END:DAYLIGHT
END:VTIMEZONE
BEGIN:VTIMEZONE
TZID:UTC
BEGIN:STANDARD
DTSTART:20250724T085205Z
TZOFFSETFROM:+0000
TZOFFSETTO:+0000
END:STANDARD
END:VTIMEZONE
BEGIN:VEVENT
UID:681-133
DTSTAMP:20260420T085205Z
SUMMARY:Sunbeat Festival 2026
LOCATION:Auditorium Alfredo Kraus Avenida Príncipe de Asturias  Las Palmas
  de Gran Canaria Las Palmas 35010
ORGANIZER;CN=Thomas F. InfosGC:MAILTO:info@infos-grancanaria.com
DTSTART;TZID=Atlantic/Canary:20260124T203000
DTEND;TZID=Atlantic/Canary:20260124T223000
X-ALT-DESC;FMTTYPE=TEXT/HTML:● Steffen Morrison eröffnet die sechste Aus
 gabe des Sunbeat Festivals am 16. Januar 2026. ● Gisele Jackson and the 
 Shu Shu's sowie Izo Ftizroy komplettieren das Programm dieser Konzertreihe
  am 23. und 24. Januar 2026 im Jerónimo Saavedra Saal des Auditoriums Alf
 redo Kraus. ● Tickets sind über die üblichen Verkaufskanäle erhältli
 ch: im Auditorium Alfredo Kraus\,&amp;hellip\;
CATEGORIES:Konzerte
URL;VALUE=URI:https://infos-grancanaria.com/events-veranstaltungen/sunbeat-
 festival/
METHOD:PUBLISH
END:VEVENT
END:VCALENDAR