BEGIN:VCALENDAR
VERSION:2.0
PRODID:spatie/icalendar-generator
DESCRIPTION:Veranstaltungen von Infos Gran Canaria | Das Inselportal
X-WR-CALDESC:Veranstaltungen von Infos Gran Canaria | Das Inselportal
REFRESH-INTERVAL;VALUE=DURATION:PT1440M
X-PUBLISHED-TTL:PT1440M
BEGIN:VTIMEZONE
TZID:Atlantic/Canary
BEGIN:STANDARD
DTSTART:20251026T020000Z
TZOFFSETFROM:+0100
TZOFFSETTO:+0000
END:STANDARD
BEGIN:DAYLIGHT
DTSTART:20260329T010000Z
TZOFFSETFROM:+0000
TZOFFSETTO:+0100
END:DAYLIGHT
END:VTIMEZONE
BEGIN:VTIMEZONE
TZID:UTC
BEGIN:STANDARD
DTSTART:20250723T162951Z
TZOFFSETFROM:+0000
TZOFFSETTO:+0000
END:STANDARD
END:VTIMEZONE
BEGIN:VEVENT
UID:684-64
DTSTAMP:20260419T162951Z
SUMMARY:Karneval Ingenio 2025
LOCATION:Ingenio (Stadt)   Ingenio Las Palmas
ORGANIZER;CN=Thomas F. InfosGC:MAILTO:info@infos-grancanaria.com
DTSTART;TZID=Atlantic/Canary;VALUE=DATE:20260314
DTEND;TZID=Atlantic/Canary;VALUE=DATE:20260329
X-ALT-DESC;FMTTYPE=TEXT/HTML:<p>Der Karneval in Ingenio 2026 findet vom 14.
  März bis zum 28. März statt. Das Motto lautet in diesem Jahr Gladiatore
 n.</p>\n
CATEGORIES:Feste &amp; Feiertage
URL;VALUE=URI:https://infos-grancanaria.com/events-veranstaltungen/karneval
 -ingenio/
METHOD:PUBLISH
END:VEVENT
END:VCALENDAR