BEGIN:VCALENDAR
VERSION:2.0
PRODID:spatie/icalendar-generator
DESCRIPTION:Veranstaltungen von Infos Gran Canaria | Das Inselportal
X-WR-CALDESC:Veranstaltungen von Infos Gran Canaria | Das Inselportal
REFRESH-INTERVAL;VALUE=DURATION:PT1440M
X-PUBLISHED-TTL:PT1440M
BEGIN:VTIMEZONE
TZID:Atlantic/Canary
BEGIN:DAYLIGHT
DTSTART:20250330T010000Z
TZOFFSETFROM:+0000
TZOFFSETTO:+0100
END:DAYLIGHT
BEGIN:STANDARD
DTSTART:20251026T020000Z
TZOFFSETFROM:+0100
TZOFFSETTO:+0000
END:STANDARD
BEGIN:DAYLIGHT
DTSTART:20260329T010000Z
TZOFFSETFROM:+0000
TZOFFSETTO:+0100
END:DAYLIGHT
END:VTIMEZONE
BEGIN:VTIMEZONE
TZID:UTC
BEGIN:STANDARD
DTSTART:20250729T031045Z
TZOFFSETFROM:+0000
TZOFFSETTO:+0000
END:STANDARD
END:VTIMEZONE
BEGIN:VEVENT
UID:685-134
DTSTAMP:20260425T031045Z
SUMMARY:I Love Reggaeton 2025
LOCATION:Stadion Gran Canaria Calle Fondos de Segura\, s/n  Las Palmas de G
 ran Canaria Las Palmas 35019
ORGANIZER;CN=Thomas F. InfosGC:MAILTO:info@infos-grancanaria.com
DTSTART;TZID=Atlantic/Canary:20251114T170000
DTEND;TZID=Atlantic/Canary:20251114T235900
X-ALT-DESC;FMTTYPE=TEXT/HTML:<p>Zum zweiten Mal findet das Festival I Love 
 Reggaeton im Jahr 2025 auf Gran Canaria statt.</p>\n
CATEGORIES:Konzerte
URL;VALUE=URI:https://infos-grancanaria.com/events-veranstaltungen/i-love-r
 eggaeton/
METHOD:PUBLISH
END:VEVENT
END:VCALENDAR