BEGIN:VCALENDAR
VERSION:2.0
PRODID:spatie/icalendar-generator
DESCRIPTION:Veranstaltungen von Infos Gran Canaria | Das Inselportal
X-WR-CALDESC:Veranstaltungen von Infos Gran Canaria | Das Inselportal
REFRESH-INTERVAL;VALUE=DURATION:PT1440M
X-PUBLISHED-TTL:PT1440M
BEGIN:VTIMEZONE
TZID:Atlantic/Canary
BEGIN:DAYLIGHT
DTSTART:20250330T010000Z
TZOFFSETFROM:+0000
TZOFFSETTO:+0100
END:DAYLIGHT
BEGIN:STANDARD
DTSTART:20251026T020000Z
TZOFFSETFROM:+0100
TZOFFSETTO:+0000
END:STANDARD
BEGIN:DAYLIGHT
DTSTART:20260329T010000Z
TZOFFSETFROM:+0000
TZOFFSETTO:+0100
END:DAYLIGHT
END:VTIMEZONE
BEGIN:VTIMEZONE
TZID:UTC
BEGIN:STANDARD
DTSTART:20250728T233508Z
TZOFFSETFROM:+0000
TZOFFSETTO:+0000
END:STANDARD
END:VTIMEZONE
BEGIN:VEVENT
UID:687-136
DTSTAMP:20260424T233508Z
SUMMARY:Handwerksmesse Firgas
LOCATION:Firgas (Gemeinde) Calle Gral. Cabandellas  Firgas Las Palmas 35430
ORGANIZER;CN=Thomas F. InfosGC:MAILTO:info@infos-grancanaria.com
DTSTART;TZID=Atlantic/Canary:20251108T100000
DTEND;TZID=Atlantic/Canary:20251108T170000
X-ALT-DESC;FMTTYPE=TEXT/HTML:Am 8. November 2025 gibt es in Firga die aller
 erste Handwerksmesse überhaupt. Fontana Rosa Park – Firgas - Es wird em
 pfohlen\, auf städtischen Parkplätzen zu parken und sich zu Fuß fortzub
 ewegen (ca. 4 Minuten Fußweg). - Bitte kommen Sie vor der Öffnung (10:00
  Uhr). - Bitte informieren Sie sich am Informationsschalter über die barr
 ierefreien Eingänge.&amp;hellip\;
CATEGORIES:Messe &amp; Ausstellungen
URL;VALUE=URI:https://infos-grancanaria.com/events-veranstaltungen/handwerk
 smesse-firgas/
METHOD:PUBLISH
END:VEVENT
END:VCALENDAR