BEGIN:VCALENDAR
VERSION:2.0
PRODID:spatie/icalendar-generator
DESCRIPTION:Veranstaltungen von Infos Gran Canaria | Das Inselportal
X-WR-CALDESC:Veranstaltungen von Infos Gran Canaria | Das Inselportal
REFRESH-INTERVAL;VALUE=DURATION:PT1440M
X-PUBLISHED-TTL:PT1440M
BEGIN:VTIMEZONE
TZID:Atlantic/Canary
BEGIN:DAYLIGHT
DTSTART:20240331T010000Z
TZOFFSETFROM:+0000
TZOFFSETTO:+0100
END:DAYLIGHT
BEGIN:STANDARD
DTSTART:20241027T020000Z
TZOFFSETFROM:+0100
TZOFFSETTO:+0000
END:STANDARD
BEGIN:DAYLIGHT
DTSTART:20250330T010000Z
TZOFFSETFROM:+0000
TZOFFSETTO:+0100
END:DAYLIGHT
END:VTIMEZONE
BEGIN:VTIMEZONE
TZID:UTC
BEGIN:STANDARD
DTSTART:20250725T101327Z
TZOFFSETFROM:+0000
TZOFFSETTO:+0000
END:STANDARD
END:VTIMEZONE
BEGIN:VEVENT
UID:99-48
DTSTAMP:20260421T101327Z
SUMMARY:Cirque du Soleil - BAZZAR Live auf Gran Canaria
LOCATION:Expomeloneras Plaza de las Conveciones 1  Maspalomas Las Palmas 35
 100
ORGANIZER;CN=Thomas F. InfosGC:MAILTO:info@infos-grancanaria.com
DTSTART;TZID=Atlantic/Canary:20240918T183000
DTEND;TZID=Atlantic/Canary:20250106T230000
X-ALT-DESC;FMTTYPE=TEXT/HTML:Die BAZZAR-Show des Cirque du Soleil ist eine 
 der neusten Shows der Cirque du Soleil\, im Rahmen der Europa-Premiere fin
 det die Aufführung auf Gran Canaria statt. Tickets gibt es unter dem hint
 erlegten Link ab 55 €\, je früher man bucht\, desto günstiger bleibt e
 s. Diverse Spieltage mit diversen Showzeiten erwarten Sie! Montags findet 
 (außer Ende&amp;hellip\;
CATEGORIES:Show
URL;VALUE=URI:https://infos-grancanaria.com/events-veranstaltungen/cirque-d
 u-soleil-bazzar-live-auf-gran-canaria/
METHOD:PUBLISH
END:VEVENT
END:VCALENDAR